BEGIN:VCALENDAR
VERSION:2.0
PRODID:-//The Alexander House - ECPv6.15.17.1//NONSGML v1.0//EN
CALSCALE:GREGORIAN
METHOD:PUBLISH
X-WR-CALNAME:The Alexander House
X-ORIGINAL-URL:https://alexanderhouseonline.org
X-WR-CALDESC:Events for The Alexander House
REFRESH-INTERVAL;VALUE=DURATION:PT1H
X-Robots-Tag:noindex
X-PUBLISHED-TTL:PT1H
BEGIN:VTIMEZONE
TZID:America/Chicago
BEGIN:DAYLIGHT
TZOFFSETFROM:-0600
TZOFFSETTO:-0500
TZNAME:CDT
DTSTART:20230312T080000
END:DAYLIGHT
BEGIN:STANDARD
TZOFFSETFROM:-0500
TZOFFSETTO:-0600
TZNAME:CST
DTSTART:20231105T070000
END:STANDARD
BEGIN:DAYLIGHT
TZOFFSETFROM:-0600
TZOFFSETTO:-0500
TZNAME:CDT
DTSTART:20240310T080000
END:DAYLIGHT
BEGIN:STANDARD
TZOFFSETFROM:-0500
TZOFFSETTO:-0600
TZNAME:CST
DTSTART:20241103T070000
END:STANDARD
BEGIN:DAYLIGHT
TZOFFSETFROM:-0600
TZOFFSETTO:-0500
TZNAME:CDT
DTSTART:20250309T080000
END:DAYLIGHT
BEGIN:STANDARD
TZOFFSETFROM:-0500
TZOFFSETTO:-0600
TZNAME:CST
DTSTART:20251102T070000
END:STANDARD
END:VTIMEZONE
BEGIN:VEVENT
DTSTART;VALUE=DATE:20240405
DTEND;VALUE=DATE:20240508
DTSTAMP:20260422T173600
CREATED:20231005T150637Z
LAST-MODIFIED:20240420T185006Z
UID:1141-1712275200-1715126399@alexanderhouseonline.org
SUMMARY:Body and Boldly Beyond
DESCRIPTION:“Body and Boldly Beyond”\nPaintings\, Ceramic Sculptures\, and Mixed Media Works\n   \n     \nby Bonnie Dhein and Laura Newman\, Wisconsin Rapids\nThe Opening Reception will be held on Friday\,  April 5\, 2024\, 5:00 – 8:00 PM\nArtists will be present and refreshments will be served\nThe exhibit will continue through May 7\, 2024. \nThe Alexander House is open from 1:00 – 4:00 p.m. Sunday\, Tuesday\, Thursday or by special appointment. \n  \n\nMake plans to attend a Poetry Book Launch on Sunday\, April 14\, 2024 at 2:00 PM\n featuring two local Poets\, Joan Wiese Johannes and Jeffrey Johannes.\n 
URL:https://alexanderhouseonline.org/event/body-and-boldly-beyond/
LOCATION:The Alexander House\, 1131 Wisconsin River Drive\, Port Edwards\, WI\, 54469\, United States
END:VEVENT
END:VCALENDAR