BEGIN:VCALENDAR
VERSION:2.0
PRODID:-//The Alexander House - ECPv6.15.17.1//NONSGML v1.0//EN
CALSCALE:GREGORIAN
METHOD:PUBLISH
X-WR-CALNAME:The Alexander House
X-ORIGINAL-URL:https://alexanderhouseonline.org
X-WR-CALDESC:Events for The Alexander House
REFRESH-INTERVAL;VALUE=DURATION:PT1H
X-Robots-Tag:noindex
X-PUBLISHED-TTL:PT1H
BEGIN:VTIMEZONE
TZID:America/Chicago
BEGIN:DAYLIGHT
TZOFFSETFROM:-0600
TZOFFSETTO:-0500
TZNAME:CDT
DTSTART:20230312T080000
END:DAYLIGHT
BEGIN:STANDARD
TZOFFSETFROM:-0500
TZOFFSETTO:-0600
TZNAME:CST
DTSTART:20231105T070000
END:STANDARD
BEGIN:DAYLIGHT
TZOFFSETFROM:-0600
TZOFFSETTO:-0500
TZNAME:CDT
DTSTART:20240310T080000
END:DAYLIGHT
BEGIN:STANDARD
TZOFFSETFROM:-0500
TZOFFSETTO:-0600
TZNAME:CST
DTSTART:20241103T070000
END:STANDARD
BEGIN:DAYLIGHT
TZOFFSETFROM:-0600
TZOFFSETTO:-0500
TZNAME:CDT
DTSTART:20250309T080000
END:DAYLIGHT
BEGIN:STANDARD
TZOFFSETFROM:-0500
TZOFFSETTO:-0600
TZNAME:CST
DTSTART:20251102T070000
END:STANDARD
END:VTIMEZONE
BEGIN:VEVENT
DTSTART;VALUE=DATE:20240517
DTEND;VALUE=DATE:20240626
DTSTAMP:20260422T040626
CREATED:20231005T151623Z
LAST-MODIFIED:20240420T185429Z
UID:1147-1715904000-1719359999@alexanderhouseonline.org
SUMMARY:Watercolor Painting\, Ceramics and Jewelry
DESCRIPTION:“Together Again – Moon / Reiher”\nWatercolor Paintings by Joye Moon\, Oshkosh Wisconsin\nwith Ceramics and Jewelry by Pat Reiher\, Fond du Lac\, Wisconsin\nThe Opening Reception will be held on Friday\, May 17\, 2024\, 5:00 – 8:00 PM\nArtists will be present and refreshments will be served\nThe exhibit will continue through June 25\, 2024. \nThe Alexander House is open from 1:00 – 4:00 p.m. Sunday\, Tuesday\, Thursday or by special appointment. \n 
URL:https://alexanderhouseonline.org/event/watercolor-painting-and-raku-pottery/
LOCATION:The Alexander House\, 1131 Wisconsin River Drive\, Port Edwards\, WI\, 54469\, United States
END:VEVENT
END:VCALENDAR